BEGIN:VCALENDAR
VERSION:2.0
PRODID:-//Contratero//ES
CALSCALE:GREGORIAN
METHOD:PUBLISH
BEGIN:VEVENT
UID:DNA 260/2018@contratero.es
DTSTAMP:20260425T154327Z
DTSTART:20181203T235959
DTEND:20181204T005959
SUMMARY:Cierre: Suministro para la actualización de las licencias 
DESCRIPTION:Suministro para la actualización de las licencias y herramientas de ingeniería para las actividades asociadas a los sistemas atm\\n\\nOrganismo: Dirección Económico-Financiera de ENAIRE\\n\\nVer en Contratero: https://contratero.es/contracts/DNA 260/2018
URL:https://contratero.es/contracts/DNA 260/2018
STATUS:CONFIRMED
BEGIN:VALARM
TRIGGER:-P1D
ACTION:DISPLAY
DESCRIPTION:Recordatorio: Suministro para la actualizaci
END:VALARM
END:VEVENT
END:VCALENDAR